BEGIN:VCALENDAR
VERSION:2.0
PRODID:-//Actuarial Academy of East Africa - ECPv6.2.1//NONSGML v1.0//EN
CALSCALE:GREGORIAN
METHOD:PUBLISH
X-WR-CALNAME:Actuarial Academy of East Africa
X-ORIGINAL-URL:https://www.actuarialacademy.africa
X-WR-CALDESC:Events for Actuarial Academy of East Africa
REFRESH-INTERVAL;VALUE=DURATION:PT1H
X-Robots-Tag:noindex
X-PUBLISHED-TTL:PT1H
BEGIN:VTIMEZONE
TZID:Europe/Moscow
BEGIN:STANDARD
TZOFFSETFROM:+0300
TZOFFSETTO:+0300
TZNAME:MSK
DTSTART:20240101T000000
END:STANDARD
END:VTIMEZONE
BEGIN:VEVENT
DTSTART;TZID=Europe/Moscow:20241216T110000
DTEND;TZID=Europe/Moscow:20241216T120000
DTSTAMP:20260419T171010
CREATED:20241212T105153Z
LAST-MODIFIED:20241212T105345Z
UID:13364-1734346800-1734350400@www.actuarialacademy.africa
SUMMARY:Andrew Ngai: Meet the 3X Microsoft Excel World Champion
DESCRIPTION:Andrew Ngai is not only a 37-year-old Australian actuary; he is this year’s Microsoft Excel world champion. The championship took place in Las Vegas’ HyperX Esports Arena. \nThis is not his first rodeo. Andrew has taken this mantle three times in a row since he joined the competition in 2018. \nAndrew\, a Sydney-based director at consulting firm Taylor Fry\, will join African actuarial community to share his passion for Excel\, in a webinar session on 16th December 2024. \nHe will also share his journey to becoming a triple-world champion in Microsoft Excel\, and how his problem-solving acumen has made him a darling amongst YouTube community. To join this webinar\, use this link. \n 
URL:https://www.actuarialacademy.africa/event/andrew-ngai-meet-the-3x-microsoft-excel-world-champion/
ATTACH;FMTTYPE=image/png:https://www.actuarialacademy.africa/wp-content/uploads/2024/12/Andrew-Ngai-LinkedIN.png
END:VEVENT
END:VCALENDAR