BEGIN:VCALENDAR
VERSION:2.0
PRODID:-//Actuarial Academy of East Africa - ECPv6.2.1//NONSGML v1.0//EN
CALSCALE:GREGORIAN
METHOD:PUBLISH
X-ORIGINAL-URL:https://www.actuarialacademy.africa
X-WR-CALDESC:Events for Actuarial Academy of East Africa
REFRESH-INTERVAL;VALUE=DURATION:PT1H
X-Robots-Tag:noindex
X-PUBLISHED-TTL:PT1H
BEGIN:VTIMEZONE
TZID:Europe/Moscow
BEGIN:STANDARD
TZOFFSETFROM:+0300
TZOFFSETTO:+0300
TZNAME:MSK
DTSTART:20240101T000000
END:STANDARD
END:VTIMEZONE
BEGIN:VEVENT
DTSTART;TZID=Europe/Moscow:20240322T170000
DTEND;TZID=Europe/Moscow:20240322T183000
DTSTAMP:20260423T235125
CREATED:20240319T202604Z
LAST-MODIFIED:20240319T202604Z
UID:13074-1711126800-1711132200@www.actuarialacademy.africa
SUMMARY:BONIFACE KAMAU: Effective Communication Skills
DESCRIPTION:#AAEAMentorshipSeries \nTOPIC: Effective Communication Skills \n>>> Developing clear and concise communication. \n>>> Tailoring communication to different audiences. \n>>> Communicating ethically and professionally. \n  \nDATE: 22/03/2024 \nTIME: 1700hrs \nSPEAKER: Kamau Boniface Kathithu 𝐹𝐼𝒜\, Consulting Actuary\, The Shard (Pty) Ltd South Africa \nJOINING LINK: https://us06web.zoom.us/j/85710117731?pwd=tCzweFHKEek7ujZsajMw0Z4dZDkX2F.1 \n            \nAbout the Speaker: \nBoniface is a fellow of the Institute and Faculty of Actuaries (IFoA). He holds a bachelor’s degree in Actuarial Science from DEDAN KIMATHI UNIVERSITY OF TECHNOLOGY (DeKUT) and a master’s degree in actuarial management from Bayes Business School. His area of actuarial specialization includes life valuations\, financial reporting\, and solvency management. \nBoniface currently works with The Shard as a Consulting Actuary\, where he has been involved in several projects working with Munich Re and RMA as a consultant. Before that\, he was the Head of the Actuarial Function at Kenya Orient. He has also worked at IRA Kenya. \nBoniface is a volunteer with the IFoA assisting in the marking of the SA2 exam.
URL:https://www.actuarialacademy.africa/event/boniface-kamau-effective-communication-skills/
ATTACH;FMTTYPE=image/png:https://www.actuarialacademy.africa/wp-content/uploads/2024/03/Mentorship-Series.png
END:VEVENT
END:VCALENDAR